Workbook
Name Risk_Threshold_National: #REF!
Name Risk_Threshold_Pilot: #REF!

Sheet Supplier Governance
B1: Please complete the box below prior to submission
A5: To Be Completed by Supplier
A7: Completed By:
A9: Organisation:
A11: Assessment Date:
A15: To Be Completed by NHS England*
A16: Reviewed by:
A18: Stakeholder Group:
A20: Review Date:
A22: Comments:
A25: * NHS England to create further box(es) as necessary for stakeholder review.
A29: Copyright © 2020 Health and Social Care Information Centre.
A30: NHS Digital is the trading name of the Health and Social Care Information Centre.

Sheet RAW Governance (NHS-D) 
B1: Risk Assessment Workshop Governance
A4: Purpose
A5: This tab is to be completed if the risks have been identified as part of an NHS England Risk Assessment
A8: Risk Assessment Workshop Governance
A10: API Title: | B10: Service Search- ODS code API
A12: Assurance Lead: | B12: Shatakshi Tyagi | C12: Lead Technical Assurance Specialist
A14: SMEs contacted | B14: Oliver Lewis | C14: Sr Delivery Manager
B15: Asif Mohammad | C15: Clinical Fellow
B16: Paul Gardner | C16: Information Assurance Lead
B17: Prabhakar Arumugam | C17: Principal Technical Assurance Specialist Non-Functional
B18: Johnathan Pearce | C18: Lead Systems Engineer
B19: Katherine O'Doherty | C19: Lead Product Manager
B20: Alex Langley | C20: Sr Tech Architect
B21: Victoria Hartland | C21: Service Owner
B22: Adrian Gilliat Wall | C22: Service Practitioner - Operations Group
B23: Steven Moore | C23: Cyber
A26: Workshop Date(s):
A29: Approved By:
A36: Post Review Amendments: | B36: Name | C36: Date | D36: Reason for Update | E36: Approved By
A39: Status: | B39: Draft
A41: Do not send DRAFT risk log to external suppliers.
A44: Copyright © 2020 Health and Social Care Information Centre.
A45: NHS Digital is the trading name of the Health and Social Care Information Centre.

Sheet Log Template Version History
A1: Amendment History
A2: Version | B2: Date | C2: Amendment History
A3: 0.26 | B3: 43994 | C3: Updates following extensive discussions with ADLs and Matt Barrow.
A4: 0.27 | B4: 43994 | C4: Updates following review by Simon Lee
A5: 1 | B5: 43997 | C5: Issued for use.
A6: 1.1 | B6: 43999 | C6: RAW Governance tab updated to avoid issues with TASER upload (< and > removed)
A7: 1.2 | B7: 44005 | C7: Filtering corrected.
A8: 1.3 | B8: 44006 | C8: Formulas for programme Risk Threshold added and Guidance updated. Pick List for Risk Grouping added. Guidance tab moved next to Risk Log tab.
A9: 1.4 | B9: 44011 | C9: Cosmetic changes for ease of use. Updates to Guidance tab.
A10: 2 | B10: 44013 | C10: Up issued as default version.
A11: 2.1 | B11: 44113 | C11: SL - Removed some rogue numbers in Impact Scales tab
A12: 2.2 | B12: 44139 | C12: SL - Amended the formula in Risk Log tab for column O to bring all clinical risks into scope for assurance regardless of QMM threshold score. Also added reference to Cyber as an assurance group in the guidance tab.
A13: 2.3 | B13: 44147 | C13: SL - Reinstated Cyber Security impact scales to log.
A14: 2.4 | B14: 44154 | C14: SL - Amended the formula for Column O to include the state of column K.
A15: 2.5 | B15: 44859 | C15: SL - Ameneded as part of improvement. Change to pick list for primary area of impact. Update to Impact Scales tab to reflect change in Primary Area of Impact. Also corrected the calculated formula for Column O to acknowledge Programme risk threshold.
A17: Reviewers
A18: This document must be reviewed by the following:
A19: Name | C19: Title / Responsibility | D19: Date | E19: Version
A20: Paul Butterworth | C20: Head of Assurance
A21: Phil Morton | C21: Head of Assurance
A22: Emma Bell | C22: Test & Assurance Lead | D22: 44001 | E22: 1
A23: Richard Dobson | C23: Assurance Manager | D23: 44002 | E23: 1
A24: Alan Laithwaite | C24: Assurance Manager | D24: 44001 | E24: 1
A25: Matthew Barrow | C25: Consultant
A27: Approved
A28: This document must be approved by the following:
A29: Name | C29: Title / Responsibility | D29: Date | E29: Version
A30: Paul Butterworth | C30: Head of Assurance
A31: Phil Morton | C31: Head of Assurance
A34: Distribution
A36: NHS Digital
A38: Document Status:
A39: ISSUED

Sheet Pick Lists
A1: Primary Impact Area | C1: QMM Threshold | E1: Impact Rating | G1: Likelihood Rating (Cols G and L) | I1: In Scope for Assurance ? | K1: Assurance Group | M1: High Level Assurance Mitigation | O1: Risk Log Status | Q1: Is the mitigation in place? | S1: Programme Risk Threshold | U1: Phase | W1: Risk Grouping
A2: Functional | C2: 0 | E2: 1 | G2: 1 | I2: Y | K2: SA | M2: Collaborative Engagement | O2: DRAFT | Q2: Y | S2: 1 | U2: alpha | W2: Communication
A3: Non-Functional | C3: 1 | E3: 2 | G3: 2 | I3: N | K3: Programme | M3: Embedded Assurance | O3: Approved | Q3: N | S3: 2 | U3: beta | W3: Contractual
A4: Data Quality | C4: 8 | E4: 3 | G4: 3 | K4: CSG | M4: Review Submitted Evidence | S4: 3 | U4: Pilot | W4: Data - read
A5: Information Governance | C5: 15 | E5: 4 | G5: 4 | K5: Service Management | M5: Review Spine Log Files | S5: 4 | U5: Live | W5: Data - write
A6: Cyber Security | E6: 5 | G6: 5 | K6: Cyber Security | M6: Review Test Coverage | S6: 5 | U6: National Roll-out | W6: Functional
G7: N/A | K7: Other (Specify in Elaboration Column) | M7: Tailored Witness Test | S7: 6 | U7: Phase 1 | W7: Interface
M8: Other (Specify in Elaboration Column) | S8: 7 | U8: Phase 2 | W8: Missing requirement
S9: 8 | U9: Phase 3 | W9: Non-functional
S10: 9 | U10: Phase 4 | W10: Software error
S11: 10 | U11: n/a | W11: User journey
S12: 11
S13: 12
S14: 13
S15: 14
S16: 15
S17: 0

Sheet Guidance
B1: Guidance
A4: Purpose
A5: This is the Risk Log template, used by NHS England Solution Assurance to analyse system and/or service risks. Further interaction between the Supplier and NHS England will implement controls to ensure that mitigations are deployed correctly. The context in which this template is to be used is provided by the RAW Service Definition.
A7: IMPORTANT
A8: This Risk Log does not replace the Clinical Hazard Log, and where clinical risks are identified, they should be added to the relevant clinical hazard log.
A10: Note on use of formula within this spreadsheet: They are indicated with Calculated in heading on the Risk Log tab, these fields automatically calculate their values via defined formula. If these are not updating as per your selections then please check your Calculation settings in Excel.
A11: Please ensure you DO NOT DELETE the formula, if you do then please re-insert by dragging down from formula from the cell above.
A13: Guidance on how to complete the spreadsheet
A14: Activity | B14: Instructions
A15: NHS England internal risk workshop | B15: Complete the RAW Governance tab first. Complete columns A to G of the Risk Log tab as per guidance below. It may also be possible to complete cell values for columns G and H for some rows if you are able to identify likelihood without supplier input.
A16: A Supplier responding to a set of risks supplied by NHS England | B16: Complete the Supplier Governance tab. Complete columns H to M of the Risk Log tab as per guidance below.
A17: NHS Digital reviewing and completing the assurance sections within the spreadsheet | B17: Complete columns N to R of the Risk Log tab as per guidance below.
A18: A supplier using the Risk Log template to create their own set of risks | B18: Complete columns A to M of the Risk Log tab as per guidance below.
A20: A Supplier is: Any organisation or group whom are responsible for the delivery of Healthcare software into the NHS (within England). They could be internal or external to the NHS.
A23: General Guidance on Governance
A24: Suppliers are required to complete their section of the Supplier Governance tab when using the Risk Log. NHS England are required to complete their section(s) of Supplier Governance following review of the supplier submission.
A26: Use of RAW Governance TAB is reserved for use by NHS England. It is required when risks are being identified as part of a workshop. It details the attendees and confirms approval that the set of risks identified are complete and correct and can be used as a template for suppliers to complete.
A29: Guidance on Filling Out the Risk Log
A30: Field/Column Descriptor | B30: To Be Completed by N - NHS Digital S - Supplier F - Formula | C30: Column Type F - Free Text P - Pick List C - Calculated | D30: Additional Information
A31: QMM Threshold | B31: N | C31: P | D31: If the Supplier for whom the Risk Log is being prepared has been assessed for a QMM score - the appropriate value should be selected from the drop-down. If no QMM has been assessed this field should be left at "0".
A32: Programme Risk Threshold | B32: N | C32: P | D32: If the programme has elected to set a risk threshold - the appropriate value should be selected. If not, the field should be left a "0".
A33: Programme Name | B33: F | C33: C | D33: This field will be populated from the RAW Governance (NHS) tab.
A34: Phase | B34: N | C34: P | D34: This field can be used to indicate the phase of the programme to be reviewed.
A35: Risk ID | B35: N* | C35: F | D35: The Unique Identifier for given risk. N* - It is possible that a supplier may identify an unwanted cause and/or effect in which case they should add these to the spreadsheet. If a supplier adds an additional risk then they must append with the abbreviation 'SUPP' E.g. SCR00010SUPP where SCR is a descriptor of the set of risks that has been added to.
A36: Risk Grouping | B36: N* | C36: F | D36: Used to categorise risks by the product component. This will vary according to the product under review. Different types of programme are likely to require different sets of groupings.
A37: Unwanted Effect/Outcome Description | B37: N* | C37: F | D37: Describe the unwanted effect that relates to service/system release being risk assessed.
A38: Primary Area of Impact | B38: N* | C38: P | D38: The area where the impact of the unwanted effect is the greatest.
A39: Primary Impact Rating | B39: N* | C39: P | D39: The Impact rating should the unwanted effect occur. Consider the scale of how bad things could be when identifying the impact, this will ensure consistency across the identified risks. Please use the Impact Scales tab for guidance. If the supplier feels that the impact rating is not appropriate when considering their use of the service then they should select the most appropriate value and highight that this has been changed.
A40: Clinical Risk | B40: N* | C40: P | D40: "Y" if there is a clinical risk associated with this outcome. The risk
A41: Cause | B41: N* | C41: F | D41: Describe the cause or causes that would produce the unwanted effect. There will often be multiple potential causes for each unwanted effect/outcome. There should be a separate line for each cause/effect combination, so that all necessary mitigations can be identified. Even if two impacts would be addressed by the same mitigation,
... A53: Is the mitigation in place? | B53: N | C53: P | D53: Confirmation from the NHSE assurer that the mitigation is in place.
A55: N* - Whilst these are, by default, for NHS England to complete - it is possible that the supplier may identify an unwanted effect/cause that has not been listed. In this event the Supplier should complete these cells. If there is specific guidance for a supplier to follow for a given cell then this is explicitly stated in the Additional Information section of the table above.
A57: S* - This cell will be completed by the Supplier, by default, however NHS England may complete this field during the initial internal workshops. If the supplier feels an NHS England entry in this field needs updating then they may do so.
A60: Likelihood Interpretations (Source: DCB0129)
A61: Likelihood Category (Score) | B61: Interpretation
A62: Very high (5) | B62: Certain or almost certain; highly likely to occur
A63: High (4) | B63: Not certain but very possible; reasonably expected to occur in the majority of cases
A64: Medium (3) | B64: Possible
A65: Low (2) | B65: Could occur but in the great majority of occasions will not
A66: Very low (1) | B66: Negligible or nearly negligible possibility of occurring
...

Sheet Core Risks
A1: Programme Name: | B1: Find the Right Service (FtRS)
A2: Phase: | B2: Phase 1
A3: This section is to be completed by the connecting party and applies to all endpoints.
C5: Unwanted Effect | Q5: Assurance
A6: Risk Id | B6: Risk Grouping | C6: Unwanted Effect/Outcome Description | D6: Primary Area of Impact | E6: Primary Impact Rating | F6: Clinical Risk (Y/N) | G6: Cause | H6: Cause Likelihood (1-5) | I6: Justification of Cause Likelihood Rating | J6: Overall Risk Score (pre-mitigation) Calculated | K6: Supplier Mitigation detail required? Calculated | L6: Supplier Internal Mitigations | M6: Post Mitigation Likelihood | N6: Residual Score Calculated | O6: In scope for assurance (Y/N) Calculated | P6: Assigned Assurance Group | Q6: High Level Assurance Mitigation | R6: Elaboration - Assurance Mitigation Detail | S6: Is the mitigation in place?
A7: DosSearchAPI-Core-001 | B7: Authorisation | C7: An authorised Application user does not have access to Directory of Services Service Search -ODS API/ Triage Code / | D7: Functional | E7: 4 | F7: Y | G7: Connecting system has not applied appropriate access controls before querying the Service Search byODS Code/ TriageCode/SearchbyODSCode or ServiceID combination API Authentication method/token handling approach should be shared by the consuming systems (e.g. preventing token leakage/misuse and ensuring tokens are validated and rotated appropriately). | H7: 3 | J7: =IF(H7="N/A","N/A",E7*H7) -> 12 | K7: =IF(J7>($C$2-1),"Y","N") -> Y | O7: =IF(J7>($C$2-1),"Y",IF(D7="Functional",(IF(F7="Y","Y",(IF(J7>(#REF!-1),"Y",IF(D7="Non-Functional",(IF(F7="Y","Y",(IF(J7>(#REF!-1),"Y","N")))),"N"))))))) -> Y
A8: DosSearchAPI-Core-002 | B8: Authorisation | C8: An unauthorised user gains access to the Directory of Services Search API due to inadequate authentication or access controls, resulting in potential disclosure of service information. | D8: Functional | E8: 2 | F8: N | G8: Connecting system has not applied appropriate access controls before querying the SearchService Search byODSCode/ TriageCode/SearchbyODSCode or ServiceID combination .This query should result in 401 error should be returned in FHIR format via the Operation Outcome resource (Access token missing, invalid & expired) Authentication method/token handling approach should be shared by the consuming systems (e.g. preventing token leakage/misuse and ensuring tokens are validated and rotated appropriately). | H8: 3 | J8: =E8*H8 -> 6 | K8: =IF(J8>($C$2-1),"Y","N") -> Y | O8: =IF(J8>($C$2-1),"Y",IF(D8="Functional",(IF(F8="Y", "Y",(IF(J8>(#REF!-1),"Y","N")))),"N")) -> Y
A9: DosSearchAPI-Core-003 | B9: V&P | C9: End user experiencing performance issues that are serious enough to render the system unusable. | D9: System/Solution Integrity | E9: 3 | F9: Y | G9: Performance issues with the system. | H9: 3 | J9: =E9*H9 -> 9 | K9: =IF(J9>($C$2-1),"Y","N") -> Y | O9: =IF(J9>($C$2-1),"Y",IF(D9="Functional",(IF(F9="Y", "Y",(IF(J9>(#REF!-1),"Y","N")))),"N")) -> Y
A10: DosSearchAPI-Core-004 | B10: RFO | C10: System is unavailable. | D10: System/Solution Integrity | E10: 3 | F10: Y | G10: The solution is not resilient: - Resilience / Failover - Identification of any single points of failure - Load balancing design and failure scenarios - Backup and Recovery - Disaster Recovery | H10: 3 | J10: =E10*H10 -> 9 | K10: =IF(J10>($C$2-1),"Y","N") -> Y | O10: =IF(J10>($C$2-1),"Y",IF(D10="Functional",(IF(F10="Y", "Y",(IF(J10>(#REF!-1),"Y","N")))),"N")) -> Y
A11: DosSearchAPI-Core-005 | B11: RFO | C11: The system is experiencing problems but the user has no visibility of this. | D11: System/Solution Integrity | E11: 3 | F11: Y | G11: Alerting and monitoring is either not present or not fit for purpose. | H11: 3 | J11: =E11*H11 -> 9 | K11: =IF(J11>($C$2-1),"Y","N") -> Y | O11: =IF(J11>($C$2-1),"Y",IF(D11="Functional",(IF(F11="Y", "Y",(IF(J11>(#REF!-1),"Y","N")))),"N")) -> Y
A12: DosSearchAPI-Core-006 | B12: RFO | C12: The system has not deployed correctly. | D12: System/Solution Integrity | E12: 3 | F12: Y | G12: Poor transition / deployment plans. | H12: 3 | J12: =E12*H12 -> 9 | K12: =IF(J12>($C$2-1),"Y","N") -> Y | O12: =IF(J12>($C$2-1),"Y",IF(D12="Functional",(IF(F12="Y", "Y",(IF(J12>(#REF!-1),"Y","N")))),"N")) -> Y

Sheet SearchbyODSCode 
A1: QMM Threshold All Risks with Pre-Mitigation Score = or >:
B2: Programme Risk Threshold:
A3: Programme Name: | B3: Find the Right Service (FtRS)
A4: Phase: | B4: beta
C7: Unwanted Effect | Q7: Assurance
A8: Risk Id | B8: Risk Grouping | C8: Unwanted Effect/Outcome Description | D8: Primary Area of Impact | E8: Primary Impact Rating | F8: Clinical Risk (Y/N) | G8: Cause | H8: Cause Likelihood (1-5) | I8: Justification of Cause Likelihood Rating | J8: Overall Risk Score (pre-mitigation) Calculated | K8: Supplier Mitigation detail required? Calculated | L8: Supplier Internal Mitigations | M8: Post Mitigation Likelihood | N8: Residual Score Calculated | O8: In scope for assurance (Y/N) Calculated | P8: Assigned Assurance Group | Q8: High Level Assurance Mitigation | R8: Elaboration - Assurance Mitigation Detail | S8: Is the mitigation in place?
A9: DosSearchAPI-ODS-001 | B9: Error Handling | C9: Insufficient Error Handling and validations : Supplier system fails to handle errors (Invalid ODS code, blank ods code, service not available etc) inputs or exceptions from the Directory of Services Search -ODS API gracefully, resulting in unhandled exceptions, application crashes, inconsistent states or unexpected behaviour. | D9: Functional | E9: 4 | F9: N | G9: Unsuitable System Design Inadequate business processes Bugs/Issues with the functionality All the error codes (400,401,503,500 etc ) should be logged for investigation and resolution. https://digital.nhs.uk/developer/api-catalogue/directory-of-services-search-api/#get-/Organization | H9: 3 | J9: =E9*H9 -> 12 | K9: =IF(J9>($C$2-1),"Y","N") -> Y | O9: Y
A10: DosSearchAPI-ODS-002 | B10: Error Handling | C10: Failure to log and track errors for troubleshooting ,analysis to support detection of misuse and improve operational resilience. Example -High request rates , repeated failures | D10: Functional | E10: 4 | F10: N | G10: Monitoring & Logging not in place. | H10: 3 | J10: 12 | K10: Y | O10: Y
A11: DosSearchAPI-ODS-003 | B11: Search Parameter (ODS Code) | C11: Response returned from the search query request does not include the required Organisation details including endpoints managed by the organisation and in the specified format . For guidance https://digital.nhs.uk/developer/api-catalogue/directory-of-services-search-api/content#get-/Organization | D11: Functional | E11: 3 | F11: Y | G11: Incorrect data returned by connecting system i.e. structure correct, data incorrect. | H11: 3 | J11: =E11*H11 -> 9 | K11: =IF(J11>($C$2-1),"Y","N") -> Y | O11: Y
A12: DosSearchAPI-ODS-004 | B12: System | C12: Supplier system not resilient to changes in API specifications or requirements, resulting in service disruptions or data parsing errors. | D12: Functional | E12: 4 | F12: Y | G12: No change management process. Supplier contact details not up to date. | H12: 3 | J12: 12 | K12: Y | O12: Y

Sheet SearchbyTriageCode
A1: Programme Name: | B1: Find the Right Service (FtRS)
A2: Phase: | B2: beta
C5: Unwanted Effect | Q5: Assurance
A6: Risk Id | B6: Risk Grouping | C6: Unwanted Effect/Outcome Description | D6: Primary Area of Impact | E6: Primary Impact Rating | F6: Clinical Risk (Y/N) | G6: Cause | H6: Cause Likelihood (1-5) | I6: Justification of Cause Likelihood Rating | J6: Overall Risk Score (pre-mitigation) Calculated | K6: Supplier Mitigation detail required? Calculated | L6: Supplier Internal Mitigations | M6: Post Mitigation Likelihood | N6: Residual Score Calculated | O6: In scope for assurance (Y/N) Calculated | P6: Assigned Assurance Group | Q6: High Level Assurance Mitigation | R6: Elaboration - Assurance Mitigation Detail | S6: Is the mitigation in place?
A7: DosSearchAPI-TC-001 | B7: Business Outcome | C7: The connecting system fails to correctly display all relevant services when catch-all search logic is invoked (due to invalid SG/SD/Dx combination) resulting in incomplete or misleading service recommendations. | D7: Functional | E7: 4 | F7: Y | G7: Unsuitable System Design Connecting system not developed as per the spec https://digital.nhs.uk/developer/api-catalogue/directory-of-services-search-api/content#post-/HealthcareService/$search-by-triage-code | H7: 3 | J7: =E7*H7 -> 12 | K7: =IF(J7>($C$2-1),"Y","N") -> Y | O7: =IF(J7>($C$2-1),"Y",IF(D7="Functional",(IF(F7="Y", "Y",(IF(J7>(#REF!-1),"Y","N")))),"N")) -> Y
A8: DosSearchAPI-TC-002 | B8: Error Handling | C8: Lack of informative error messages or validations in the supplier system, leading to user confusion, failed searches, and an increased risk of user error for all the below mandatory fields to be supplied in the request : 1.Invalid Latitude value 2.Invalid Longitude value 3.Invalid patient age value 4.Invalid patient age code 5.Invalid patient -birthsex code 6.Invalid Disposition code 7.Invalid SG Code format 8.Invalid SD Code format 9.Missing required headers | D8: Functional | E8: 4 | F8: Y | G8: Unsuitable System Design Error messages are not prominently displayed Error messages aren't clear or is solely 400 error code , and not error messages returned in the response by DOS Error messages do not give clear advice/instructions to the user Bugs/Issues with the functionality. For valid formats please refer https://digital.nhs.uk/developer/api-catalogue/directory-of-services-search-api/content#post-/HealthcareService/$search-by-triage-code | H8: 3 | J8: =E8*H8 -> 12 | K8: =IF(J8>($C$2-1),"Y","N") -> Y | O8: =IF(J8>($C$2-1),"Y",IF(D8="Functional",(IF(F8="Y", "Y",(IF(J8>(#REF!-1),"Y","N")))),"N")) -> Y
A9: DosSearchAPI-TC-003 | B9: Error Handling | C9: Lack of informative error messages or validations in the supplier system, leading to user confusion for all the below non- mandatory field to be supplied in the request : 1.Invalid GP practice code format | D9: Functional | E9: 4 | F9: Y | G9: Unsuitable System Design Error messages are not prominently displayed Error messages aren't clear or is solely 400 error code , and not error messages returned in the response by DOS Error messages do not give clear advice/instructions to the user Bugs/Issues with the functionality. For valid formats please refer https://digital.nhs.uk/developer/api-catalogue/directory-of-services-search-api/content#post-/HealthcareService/$search-by-triage-code | H9: 3 | J9: =E9*H9 -> 12 | K9: =IF(J9>($C$2-1),"Y","N") -> Y | O9: =IF(J9>($C$2-1),"Y",IF(D9="Functional",(IF(F9="Y", "Y",(IF(J9>(#REF!-1),"Y","N")))),"N")) -> Y
A10: DosSearchAPI-TC-004 | B10: Business Outcome | C10: Healthcare services with special opening arrangements around bank holidays with periods of unavailability are not displayed correctly resulting in an unsuitable service being advised | D10: Functional | E10: 3 | F10: Y | G10: Unsuitable System Design Testing used test data that does not cover live like scenarios | H10: 3 | J10: =E10*H10 -> 9 | K10: =IF(J10>($C$2-1),"Y","N") -> Y | O10: =IF(J10>($C$2-1),"Y",IF(D10="Functional",(IF(F10="Y", "Y",(IF(J10>(#REF!-1),"Y","N")))),"N")) -> Y
A11: DosSearchAPI-TC-005 | B11: Error Handling | C11: Insufficient Error Handling: Supplier system fails to handle errors or exceptions from the DOS search API gracefully, resulting in unhandled exceptions, application crashes, or inconsistent states. | D11: Functional | E11: 3 | F11: Y | G11: Unsuitable System Design Inadequate business processes Bugs/Issues with the functionality All error codes must be tested and demonstrated (400,401,403,429,500,501,503 )as to how they are handled by the connecting system. For guidance- https://digital.nhs.uk/developer/api-catalogue/directory-of-services-search-api/content#post-/HealthcareService/$search-by-triage-code | H11: 3 | J11: =E11*H11 -> 9 | K11: =IF(J11>($C$2-1),"Y","N") -> Y | O11: =IF(J11>($C$2-1),"Y",IF(D11="Functional",(IF(F11="Y", "Y",(IF(J11>(#REF!-1),"Y","N")))),"N")) -> Y
A12: DosSearchAPI-TC-006 | B12: Error Handling | C12: Failure to log and track errors for troubleshooting and analysis. | D12: Functional | E12: 4 | F12: N | G12: Unsuitable System Design Bugs/Issues with the functionality | H12: 2 | J12: =E12*H12 -> 8 | K12: =IF(J12>($C$2-1),"Y","N") -> Y | O12: =IF(J12>($C$2-1),"Y",IF(D12="Functional",(IF(F12="Y", "Y",(IF(J12>(#REF!-1),"Y","N")))),"N")) -> Y
A13: DosSearchAPI-TC-007 | B13: Business Outcome | C13: GP Restriction logic is not implemented correctly example connecting system omits GP values resulting in a risk of not displaying available services and potential clinical safety concerns | D13: Functional | E13: 4 | F13: Y | G13: Unsuitable System Design Bugs/Issues with the functionality | H13: 3 | J13: =E13*H13 -> 12 | K13: =IF(J13>($C$2-1),"Y","N") -> Y | O13: =IF(J13>($C$2-1),"Y",IF(D13="Functional",(IF(F13="Y", "Y",(IF(J13>(#REF!-1),"Y","N")))),"N")) -> Y
A14: DosSearchAPI-TC-008 | B14: Search Parameter | C14: Connecting system fails to apply end user roles failing in receiving results that are appropriate for the role's clinical need. | D14: Functional | E14: 4 | F14: Y | G14: Unsuitable System Design , no agreed role information is passed in the request. Bugs/Issues with the functionality | H14: 3 | J14: =E14*H14 -> 12 | K14: =IF(J14>($C$2-1),"Y","N") -> Y | O14: =IF(J14>($C$2-1),"Y",IF(D14="Functional",(IF(F14="Y", "Y",(IF(J14>(#REF!-1),"Y","N")))),"N")) -> Y
A15: DosSearchAPI-TC-009 | B15: Search Parameter | C15: Information returned by the API is displayed incompletely or incorrectly by the connecting system, causing users to miss important service details and increasing the risk of inappropriate service selection. | D15: Functional | E15: 4 | F15: Y | G15: Unsuitable system design , not displaying all the information brought back by the API ,for example: Service ID Service name/type Service category Provider organisation Contact details Opening times Referral information Eligibility criteria Capacity information Endpoints Location references | H15: 4 | J15: =E15*H15 -> 16 | K15: =IF(J15>($C$2-1),"Y","N") -> Y | O15: =IF(J15>($C$2-1),"Y",IF(D15="Functional",(IF(F15="Y", "Y",(IF(J15>(#REF!-1),"Y","N")))),"N")) -> Y

Sheet SearchbyODSCode or ServiceID
A1: Programme Name: | B1: Find the Right Service (FtRS)
A2: Phase: | B2: beta
C5: Unwanted Effect | Q5: Assurance
A6: Risk Id | B6: Risk Grouping | C6: Unwanted Effect/Outcome Description | D6: Primary Area of Impact | E6: Primary Impact Rating | F6: Clinical Risk (Y/N) | G6: Cause | H6: Cause Likelihood (1-5) | I6: Justification of Cause Likelihood Rating | J6: Overall Risk Score (pre-mitigation) Calculated | K6: Supplier Mitigation detail required? Calculated | L6: Supplier Internal Mitigations | M6: Post Mitigation Likelihood | N6: Residual Score Calculated | O6: In scope for assurance (Y/N) Calculated | P6: Assigned Assurance Group | Q6: High Level Assurance Mitigation | R6: Elaboration - Assurance Mitigation Detail | S6: Is the mitigation in place?
A7: DosSearchAPI-SID-001 | B7: Business Outcome | C7: The connecting system fails to correctly display all the active services for the ODS Code supplied resulting in incomplete or misleading service recommendations. | D7: Functional | E7: 4 | F7: Y | G7: Unsuitable System Design Connecting system not developed as per the spec https://digital.nhs.uk/developer/api-catalogue/directory-of-services-search-api/content#get-/HealthcareService | H7: 3 | J7: =E7*H7 -> 12 | K7: =IF(J7>($C$2-1),"Y","N") -> Y | O7: =IF(J7>($C$2-1),"Y",IF(D7="Functional",(IF(F7="Y", "Y",(IF(J7>(#REF!-1),"Y","N")))),"N")) -> Y
A8: DosSearchAPI-SID-002 | B8: Business Outcome | C8: The connecting system fails to correctly display the single active service for the Service ID supplied resulting in incomplete or misleading service recommendation. | D8: Functional | E8: 4 | F8: Y | G8: Unsuitable System Design Connecting system not developed as per the spec https://digital.nhs.uk/developer/api-catalogue/directory-of-services-search-api/content#get-/HealthcareService | H8: 3 | J8: =E8*H8 -> 12 | K8: =IF(J8>($C$2-1),"Y","N") -> Y | O8: =IF(J8>($C$2-1),"Y",IF(D8="Functional",(IF(F8="Y", "Y",(IF(J8>(#REF!-1),"Y","N")))),"N")) -> Y
A9: DosSearchAPI-SID-003 | B9: Error Handling | C9: Lack of informative message when an Invalid Service ID is supplied in the request | D9: Functional | E9: 3 | F9: Y | G9: Unsuitable System Design Connecting system not developed as per the spec which specifies 404 No active service found https://digital.nhs.uk/developer/api-catalogue/directory-of-services-search-api/content#get-/HealthcareService | H9: 3 | J9: =E9*H9 -> 9 | K9: =IF(J9>($C$2-1),"Y","N") -> Y | O9: =IF(J9>($C$2-1),"Y",IF(D9="Functional",(IF(F9="Y", "Y",(IF(J9>(#REF!-1),"Y","N")))),"N")) -> Y
A10: DosSearchAPI-SID-004 | B10: Error Handling | C10: System does not prevent or inform users when both ODS Code and Service ID are entered in the same search request. | D10: Functional | E10: 3 | F10: Y | G10: Unsuitable System Design Connecting system not developed as per the spec (400 along with meaningful message ) https://digital.nhs.uk/developer/api-catalogue/directory-of-services-search-api/content#get-/HealthcareService | H10: 3 | J10: =E10*H10 -> 9 | K10: =IF(J10>($C$2-1),"Y","N") -> Y | O10: =IF(J10>($C$2-1),"Y",IF(D10="Functional",(IF(F10="Y", "Y",(IF(J10>(#REF!-1),"Y","N")))),"N")) -> Y
A11: DosSearchAPI-SID-005 | B11: Error Handling | C11: Insufficient validation and absence of user-facing informative messages for the scenarios below can lead to incomplete search results, causing delays in identifying and suggesting appropriate services. Missing both organization.identifier and _id query parameters Missing | separator in organization.identifier Invalid identifier system (not https://fhir.nhs.uk/Id/ods-organization-code) Invalid ODS code format (must be 5-12 alphanumeric characters) Invalid UUID format in _id Missing or unrecognised referral-function header when using _id | D11: Functional | E11: 3 | F11: Y | G11: Unsuitable System Design Connecting system not developed as per the spec (400 along with meaningful message or validation ) https://digital.nhs.uk/developer/api-catalogue/directory-of-services-search-api/content#get-/HealthcareService | H11: 3 | J11: =E11*H11 -> 9 | K11: =IF(J11>($C$2-1),"Y","N") -> Y | O11: =IF(J11>($C$2-1),"Y",IF(D11="Functional",(IF(F11="Y", "Y",(IF(J11>(#REF!-1),"Y","N")))),"N")) -> Y
A12: DosSearchAPI-SID-006 | B12: Error Handling | C12: Insufficient Error Handling: Supplier system fails to handle errors or exceptions from the DOS search API gracefully, resulting in unhandled exceptions, application crashes, or inconsistent states. | D12: Functional | E12: 3 | F12: Y | G12: Unsuitable System Design Inadequate business processes Bugs/Issues with the functionality All error codes must be tested and demonstrated (400,401,403,404,429,500,501,503 )as to how they are handled by the connecting system. For guidance- https://digital.nhs.uk/developer/api-catalogue/directory-of-services-search-api/content#get-/HealthcareService | H12: 3 | J12: =E12*H12 -> 9 | K12: =IF(J12>($C$2-1),"Y","N") -> Y
A13: DosSearchAPI-SID-007 | B13: Business Outcome | C13: Healthcare services with special opening arrangements around bank holidays with periods of unavailability are not displayed correctly resulting in an unsuitable service being advised | D13: Functional | E13: 3 | F13: Y | G13: Unsuitable System Design Testing used test data that does not cover live like scenarios and opening time Semantics provided in the spec https://digital.nhs.uk/developer/api-catalogue/directory-of-services-search-api/content#get-/HealthcareService | H13: 3 | J13: =E13*H13 -> 9 | K13: =IF(J13>($C$2-1),"Y","N") -> Y | O13: =IF(J13>($C$2-1),"Y",IF(D13="Functional",(IF(F13="Y", "Y",(IF(J13>(#REF!-1),"Y","N")))),"N")) -> Y
A14: DosSearchAPI-SID-008 | B14: Search Parameter | C14: Information returned by the API is displayed incompletely or incorrectly by the connecting system, causing users to miss important service details and increasing the risk of inappropriate service selection. | D14: Functional | E14: 4 | F14: Y | G14: Unsuitable system design , not displaying all the information brought back by the API ,for example: HealthcareService QuestionnaireResponse Schedule Slot Location Endpoint Organization etc | H14: 4 | J14: =E14*H14 -> 16 | K14: =IF(J14>($C$2-1),"Y","N") -> Y | O14: =IF(J14>($C$2-1),"Y",IF(D14="Functional",(IF(F14="Y", "Y",(IF(J14>(#REF!-1),"Y","N")))),"N")) -> Y
A15: DosSearchAPI-SID-009 | B15: Search Parameter | C15: Connecting system fails to apply end user roles failing in receiving results that are appropriate for the role's clinical need. | D15: Functional | E15: 4 | F15: Y | G15: Unsuitable System Design , no agreed role information is passed in the request. Bugs/Issues with the functionality | H15: 3 | J15: =E15*H15 -> 12 | K15: =IF(J15>($C$2-1),"Y","N") -> Y | O15: =IF(J15>($C$2-1),"Y",IF(D15="Functional",(IF(F15="Y", "Y",(IF(J15>(#REF!-1),"Y","N")))),"N")) -> Y
A16: DosSearchAPI-SID-010 | B16: Business Outcome | C16: Incorrect interpretation of DoS Search API opening time resources resulting in inaccurate service availability presentation | D16: Functional | E16: 4 | F16: Y | G16: Connecting party may not correctly implement the opening time processing rules defined for the DoS Search API. Fails to correctly apply the precedence of availableTime, notAvailable, date-specific Slot resources, and public holiday rules when determining a service's actual availability. Incorrect display of resources using, or presenting service opening times that differ from those intended by the Directory of Services | H16: 3 | J16: =E16*H16 -> 12 | K16: =IF(J16>($C$2-1),"Y","N") -> Y | O16: =IF(J16>($C$2-1),"Y",IF(D16="Functional",(IF(F16="Y", "Y",(IF(J16>(#REF!-1),"Y","N")))),"N")) -> Y

Sheet Impact Scales
B1: Guidance on Impact Scales
B4: You should use the impact scales to derive the Primary Impact Rating of the unwanted effect recorded on the Risk Log tab.
B6: Use the table below to identify the highest Impact Level that contains one or more statements that match the impact of the unwanted effect. This impact level should be used as the Primary Impact Rating.
B8: You are expected to contextualise the statements in the table with the unwanted effect.
A10: Important note | B10: The clinical impact definitions listed below are taken from DCB0129 and are maintained within that standard.
B11: Please ensure there have been no updates to the standard before using the definitions listed below to rate risks where Clinical is the primary area of impact.
B13: Impact Level 1 | C13: Impact Level 2 | D13: Impact Level 3 | E13: Impact Level 4 | F13: Impact Level 5
A14: Functional | B14: Failure to meet a functional business requirement/user need, resulting in a technical issue, no impact to any programme or business objectives or operational goals, no change/workaround required. | C14: Failure to meet a functional business requirement/user need, resulting in failure to meet programme or business objectives or operational goals, still within acceptable limits, no changes/workaround required | D14: Failure to meet a functional business requirement/user need, resulting in failure to meet programme or business objectives or operational goals, requiring moderate changes/workaround to accommodate | E14: Failure to meet a functional business requirement/user need, resulting in failure to meet programme or business objectives or operational goals, requiring significant changes/workaround to accommodate | F14: Failure to meet a functional business requirement/user need, resulting in failure to meet programme or business objectives or operational goals, requires significant changes to accommodate, there are no workarounds. | G14: Technical/Business and Operational Goals - Local Only
B15: N/A | C15: N/A | D15: N/A | E15: Failure to meet a functional business requirement/user need, resulting in failure to meet programme or business objectives or operational goals, moderate changes/workaround required to one or more of the National Systems | F15: Failure to meet a functional business requirement/user need, resulting in failure to meet programme or business objectives or operational goals, significant change(s) required to one or more of the National Systems. No workaround available | G15: Technical/Business and Operational Goals - National Scope
B16: Programme or Care Org budget unaffected | C16: Programme or Care Org budget impacted by up to +10% | D16: Programme or Care Org budget impacted by +11-50% | E16: Programme or Care Org budget impacted by +51-100% | F16: Programme or Care Org budget impacted by >100% | G16: Cost
B18: No programme delay, outside planned contingency or workarounds | C18: Programme delay by up to +10% on plan | D18: Programme delay by +11-50% on plan | E18: Programme delay by +51-100% on plan | F18: Programme delay by >100% on plan | G18: Schedule
A20: Non-Functional | B20: Solution design or implementation results in a non-functional issue. The problem is rare and causes minimal loss of time. Minor cosmetic or consistency issue. Examples include but are not limited to; volume and performance, resilience, accessibility, and general readiness for operation. | C20: Solution design or implementation results in a non-functional issue. The problem is exhibited as a failure to meet programme or business objectives or operational goals, still within acceptable limits, no changes/workaround required. Examples include but are not limited to; volume and performance, resilience, accessibility, and general readiness for operation. | D20: Solution design or implementation results in a non-functional issue. The problem is exhibited as a failure to meet programme or business objectives or operational goals, requiring moderate changes/workaround to accommodate. Examples include but are not limited to; volume and performance, resilience, accessibility, and general readiness for operation. | E20: Solution design or implementation results in a non-functional issue. The problem is exhibited as a failure to meet programme or business objectives or operational goals, requiring significant changes/workaround to accommodate. Examples include but are not limited to; volume and performance, resilience, accessibility, and general readiness for operation. | F20: Solution design or implementation results in a non-functional issue. The problem is exhibited as a failure to meet programme or business objectives or operational goals, requires significant changes to accommodate, there are no workarounds. Examples include but are not limited to; volume and performance, resilience, accessibility, and general readiness for operation. | G20: Quality
B22: Programme or Care Org budget unaffected | C22: Programme or Care Org budget impacted by up to +10% | D22: Programme or Care Org budget impacted by +11-50% | E22: Programme or Care Org budget impacted by +51-100% | F22: Programme or Care Org budget impacted by >100% | G22: Cost
B24: Users remain happy with the system | C24: Users will be slightly irritated by the problem. | D24: Users will become unsatisfied with the system. | E24: User will be expecting problems to occur thus causing reputational damage | F24: The user is unable or unwilling to use the system. Complete dissatisfaction. | G24: Reputation
B26: No programme delay, outside planned contingency or workarounds | C26: Programme delay by up to +10% on plan | D26: Programme delay by +11-50% on plan | E26: Programme delay by +51-100% on plan | F26: Programme delay by >100% on plan | G26: Schedule
A28: Data Quality | B28: Localised minor data quality issue, no impact to any programme or business objectives or operational goals, no change/workaround required | C28: Localised minor data quality issue, resulting in failure to meet programme or business objectives or operational goals, still within acceptable limits, no changes/workaround required | D28: Localised moderate data quality issue, resulting in failure to meet programme or business objectives or operational goals, requiring minor changes/workaround to accommodate | E28: Localised significant data quality issue, resulting in failure to meet programme or business objectives or operational goals, requiring extensive changes/workaround to accommodate | F28: Data quality issue affecting centrally stored data or data consumed by other systems resulting in failure to meet programme or business objectives or operational goals, requires change/workaround to accommodate | G28: Data Quality/Business and Operational Goals - Local and National
B30: N/A | C30: N/A | D30: Moderate technical or data quality issue, resulting in failure to meet programme or business objectives or operational goals, requiring minor changes/workaround prior to secondary use of the dataset | E30: Significant technical or data quality issue, resulting in failure to meet programme or business objectives or operational goals, requiring extensive changes/workaround prior to secondary use of the dataset | F30: Catastrophic technical or data quality issue, resulting in failure to meet programme or business objectives or operational goals, no change/workaround available. Unable to use the dataset for secondary uses | G30: Data Quality/Business and Operational Goals - Secondary Usel
B33: Programme or Care Org budget unaffected | C33: Programme or Care Org budget impacted by up to +10% | D33: Programme or Care Org budget impacted by +11-50% | E33: Programme or Care Org budget impacted by +51-100% | F33: Programme or Care Org budget impacted by >100% | G33: Cost
B35: No programme delay, outside planned contingency or workarounds | C35: Programme delay by up to +10% on plan | D35: Programme delay by +11-50% on plan | E35: Programme delay by +51-100% on plan | F35: Programme delay by >100% on plan | G35: Schedule
A37: Information Governance | B37: Breach of confidentiality for personal data, only a single data subject affected. | C37: Breach of confidentiality for personal data <10 data subjects impacted | D37: Breach of confidentiality for personal data <50 data subjects impacted | E37: Breach of confidentiality for personal data for up to 100 data subjects impacted OR Breach of confidentiality for sensitive personal data for single data subject | F37: Breach of confidentiality for personal data for up to 1000 data subjects impacted OR Breach of confidentiality for sensitive personal data for more than a single data subject | G37: Confidentiality
B39: Minor data integrity ssue, no impact to any programme or business objectives or operational goals, no change/workaround required. | C39: Minor data integrity issue, resulting in failure to meet programme or business objectives or operational goals, still within acceptable limits, no changes/workaround required. | D39: Moderate data integrity issue, resulting in failure to meet programme or business objectives or operational goals, requiring minor changes/workaround. | E39: Significant data integrity issue, resulting in failure to meet programme or business objectives or operational goals, requiring significant changes/workaround to accommodate | F39: Catastrophic data integrity issue, resulting in failure to meet programme or business objectives or operational goals, requires significant changes to accommodate, there are no workarounds | G39: Integrity
B41: Minor availability issue, no impact to any programme or business objectives or operational goals, | C41: Minor availability issue, still within acceptable limits and not impacting stakeholders | D41: Moderate availability issue, impacting stakeholders, service still within acceptable limits | E41: Significant availabilityy issue, bringing considerable inconvience to stakeholders, resulting in failure to meet programme or business objectives or operational goals. | F41: Catastrophic availability issue, bringing unacceptable inconvience to stakeholders, resulting in failure to meet programme or business objectives or operational goals. | G41: Availability
B43: Programme or Care Org budget unaffected | C43: Programme or Care Org budget impacted by up to +10% | D43: Programme or Care Org budget impacted by +11-50% | E43: Programme or Care Org budget impacted by +51-100% | F43: Programme or Care Org budget impacted by >100% | G43: Cost
B45: No programme delay, outside planned contingency or workarounds | C45: Programme delay by up to +10% on plan | D45: Programme delay by +11-50% on plan | E45: Programme delay by +51-100% on plan | F45: Programme delay by >100% on plan | G45: Schedule
A47: Cyber Security | B47: Vulnerability discovered. Rated Low, remediation unlikely, mitigation provided. Residual risk accepted. | C47: Vulnerability discovered. Rated Medium, remediation unlikely, mitigation / workaround established. Residual risk accepted for private & public beta, but long term solution required. | D47: Vulnerability discovered. Rated High, remediation unlikely in the short term, mitigation / workaround established. Residual risk accepted only for private beta, long term solution required before public beta. | E47: Vulnerability discovered. Rated High / Critical, remediation unlikely in the short term, mitigation / workaround not sufficient. Residual risk not accepted for private beta until quick fix is provided in lieu of a long term solution. | F47: Vulnerability discovered. Rated High / Critical, remediation unlikely in the short term, no adequate mitigation / workaround. No way forward until solution developed.

Sheet Metrics
A1: Total No. of Risks | B1: =COUNTA('SearchbyODSCode '!C:C)-4 -> 2
A2: SEVERITY
A3: 5 | B3: =COUNTIF('SearchbyODSCode '!E:E,A3) -> 0
A4: 4 | B4: =COUNTIF('SearchbyODSCode '!E:E,A4) -> 3
A5: 3 | B5: =COUNTIF('SearchbyODSCode '!E:E,A5) -> 1
A6: 2 | B6: =COUNTIF('SearchbyODSCode '!E:E,A6) -> 0
A7: 1 | B7: =COUNTIF('SearchbyODSCode '!E:E,A7) -> 0
A8: NOT CLASSIFIED | B8: =B1-(SUM(B3:B7)) -> -2
A9: PRIMARY AREA OF IMPACT
A10: Functional | B10: =COUNTIF('SearchbyODSCode '!D:D,A10) -> 4
A11: Non-Functional | B11: =COUNTIF('SearchbyODSCode '!D:D,A11) -> 0
A12: Data Quality | B12: =COUNTIF('SearchbyODSCode '!D:D,A12) -> 0
A13: Information Governance | B13: =COUNTIF('SearchbyODSCode '!D:D,A13) -> 0
A14: Cyber Security | B14: =COUNTIF('SearchbyODSCode '!D:D,A14) -> 0
A15: NOT CLASSIFIED | B15: =B1-(SUM(B10:B14)) -> -2
A16: PRE-MITIGATION SCORE
A17: Between 1 and 3 | B17: =COUNTIFS('SearchbyODSCode '!J:J,"<3",'SearchbyODSCode '!J:J,">1") -> 0
A18: Between 4 and 7 | B18: =COUNTIFS('SearchbyODSCode '!J:J,"<7",'SearchbyODSCode '!J:J,">4") -> 0
A19: Between 8 and 14 | B19: =COUNTIFS('SearchbyODSCode '!J:J,"<14",'SearchbyODSCode '!J:J,">8") -> 4
A20: Between 15 and 19 | B20: =COUNTIFS('SearchbyODSCode '!J:J,"<19",'SearchbyODSCode '!J:J,">15") -> 0
A21: Between 20 and 25 | B21: =COUNTIFS('SearchbyODSCode '!J:J,"<26",'SearchbyODSCode '!J:J,">20") -> 0
A22: NOT CLASSIFIED | B22: =B1-(SUM(B17:B21)) -> -2
A23: POST-MITIGATION SCORE
A24: Between 1 and 3 | B24: =COUNTIFS('SearchbyODSCode '!N:N,"<3",'SearchbyODSCode '!N:N,">1") -> 0
A25: Between 4 and 7 | B25: =COUNTIFS('SearchbyODSCode '!N:N,"<7",'SearchbyODSCode '!N:N,">4") -> 0
A26: Between 8 and 14 | B26: =COUNTIFS('SearchbyODSCode '!N:N,"<14",'SearchbyODSCode '!N:N,">8") -> 0
A27: Between 15 and 19 | B27: =COUNTIFS('SearchbyODSCode '!N:N,"<19",'SearchbyODSCode '!N:N,">15") -> 0
A28: Between 20 and 25 | B28: =COUNTIFS('SearchbyODSCode '!N:N,"<26",'SearchbyODSCode '!N:N,">20") -> 0
A29: >15 | B29: =COUNTIFS('SearchbyODSCode '!N:N,"<30",'SearchbyODSCode '!N:N,">15") -> 0 | D29: Needs to be zero for Beta
A30: >10 | B30: =COUNTIFS('SearchbyODSCode '!N:N,"<30",'SearchbyODSCode '!N:N,">10") -> 0 | D30: Needs to be zero for Go-Live
A31: NOT CLASSIFIED | B31: =B1-(SUM(B24:B30)) -> 2
