Workbook
Name Risk_Threshold_National: #REF!
Name Risk_Threshold_Pilot: #REF!

Sheet Supplier Governance
B1: Please complete the box below prior to submission
A5: To Be Completed by Supplier
A7: Completed By:
A9: Organisation:
A11: Assessment Date:
A15: To Be Completed by NHS Digital*
A16: Reviewed by:
A18: Stakeholder Group:
A20: Review Date:
A22: Comments:
A25: * NHS Digital to create further box(es) as necessary for stakeholder review.
A29: Copyright © 2020 Health and Social Care Information Centre.
A30: NHS Digital is the trading name of the Health and Social Care Information Centre.

Sheet RAW Governance (NHS-D) 
B1: Risk Assessment Workshop Governance
A4: Purpose
A5: This tab is to be completed if the risks have been identified as part of an NHS Digital Risk Assessment Workshop (RAW)
A8: Risk Assessment Workshop Governance
A10: Workshop Title: | B10: DoS EPS API
A12: Workshop Lead: | B12: Shatakshi Tyagi
A14: Workshop Attendees | B14: Oliver Lewis | C14: Organiser and Sr Delivery Manager
B15: Owens Igudala | C15: Clinical Fellow
B16: Paul Gardner | C16: Information Assurance Lead
B17: Prabhakar Arumugam | C17: Principal Technical Assurance Specialist Non-Functional
B18: Johnathan Pearce | C18: Lead Systems Engineer
B19: Katherine O'Doherty | C19: Lead Product Manager
B20: Alex Langley | C20: Sr Tech Architect
B21: Joseph Partridge | C21: Senior systems Engineer
B22: Victoria Hartland | C22: Service Owner
B23: Adrian Gilliat Wall | C23: Service Practitioner - Operations Group
A26: Workshop Date(s):
A29: Approved By: | B29: Approver Name | C29: Approved Date
B30: Approver Name | C30: Approved Date
B31: Approver Name | C31: Approved Date
B32: Approver Name | C32: Approved Date
B33: Approver Name | C33: Approved Date
A36: Post Workshop Amendments: | B36: Name | C36: Date | D36: Reason for Update | E36: Approved By
A39: Status: | B39: Draft
A41: Do not send DRAFT risk log to external suppliers.
A44: Copyright © 2020 Health and Social Care Information Centre.
A45: NHS Digital is the trading name of the Health and Social Care Information Centre.

Sheet Log Template Version History
A1: Amendment History
A2: Version | B2: Date | C2: Amendment History
A3: 0.26 | B3: 43994 | C3: Updates following extensive discussions with ADLs and Matt Barrow.
A4: 0.27 | B4: 43994 | C4: Updates following review by Simon Lee
A5: 1 | B5: 43997 | C5: Issued for use.
A6: 1.1 | B6: 43999 | C6: RAW Governance tab updated to avoid issues with TASER upload (< and > removed)
A7: 1.2 | B7: 44005 | C7: Filtering corrected.
A8: 1.3 | B8: 44006 | C8: Formulas for programme Risk Threshold added and Guidance updated. Pick List for Risk Grouping added. Guidance tab moved next to Risk Log tab.
A9: 1.4 | B9: 44011 | C9: Cosmetic changes for ease of use. Updates to Guidance tab.
A10: 2 | B10: 44013 | C10: Up issued as default version.
A11: 2.1 | B11: 44113 | C11: SL - Removed some rogue numbers in Impact Scales tab
A12: 2.2 | B12: 44139 | C12: SL - Amended the formula in Risk Log tab for column O to bring all clinical risks into scope for assurance regardless of QMM threshold score. Also added reference to Cyber as an assurance group in the guidance tab.
A13: 2.3 | B13: 44147 | C13: SL - Reinstated Cyber Security impact scales to log.
A14: 2.4 | B14: 44154 | C14: SL - Amended the formula for Column O to include the state of column K.
A15: 2.5 | B15: 44859 | C15: SL - Ameneded as part of improvement. Change to pick list for primary area of impact. Update to Impact Scales tab to reflect change in Primary Area of Impact. Also corrected the calculated formula for Column O to acknowledge Programme risk threshold.
A17: Reviewers
A18: This document must be reviewed by the following:
A19: Name | C19: Title / Responsibility | D19: Date | E19: Version
A20: Paul Butterworth | C20: Head of Assurance
A21: Phil Morton | C21: Head of Assurance
A22: Emma Bell | C22: Test & Assurance Lead | D22: 44001 | E22: 1
A23: Richard Dobson | C23: Assurance Manager | D23: 44002 | E23: 1
A24: Alan Laithwaite | C24: Assurance Manager | D24: 44001 | E24: 1
A25: Matthew Barrow | C25: Consultant
A27: Approved
A28: This document must be approved by the following:
A29: Name | C29: Title / Responsibility | D29: Date | E29: Version
A30: Paul Butterworth | C30: Head of Assurance
A31: Phil Morton | C31: Head of Assurance
A34: Distribution
A36: NHS Digital
A38: Document Status:
A39: ISSUED

Sheet Pick Lists
A1: Primary Impact Area | C1: QMM Threshold | E1: Impact Rating | G1: Likelihood Rating (Cols G and L) | I1: In Scope for Assurance ? | K1: Assurance Group | M1: High Level Assurance Mitigation | O1: Risk Log Status | Q1: Is the mitigation in place? | S1: Programme Risk Threshold | U1: Phase | W1: Risk Grouping
A2: Functional | C2: 0 | E2: 1 | G2: 1 | I2: Y | K2: SA | M2: Collaborative Engagement | O2: DRAFT | Q2: Y | S2: 1 | U2: alpha | W2: Communication
A3: Non-Functional | C3: 1 | E3: 2 | G3: 2 | I3: N | K3: Programme | M3: Embedded Assurance | O3: Approved | Q3: N | S3: 2 | U3: beta | W3: Contractual
A4: Data Quality | C4: 8 | E4: 3 | G4: 3 | K4: CSG | M4: Review Submitted Evidence | S4: 3 | U4: Pilot | W4: Data - read
A5: Information Governance | C5: 15 | E5: 4 | G5: 4 | K5: Service Management | M5: Review Spine Log Files | S5: 4 | U5: Live | W5: Data - write
A6: Cyber Security | E6: 5 | G6: 5 | K6: Cyber Security | M6: Review Test Coverage | S6: 5 | U6: National Roll-out | W6: Functional
G7: N/A | K7: Other (Specify in Elaboration Column) | M7: Tailored Witness Test | S7: 6 | U7: Phase 1 | W7: Interface
M8: Other (Specify in Elaboration Column) | S8: 7 | U8: Phase 2 | W8: Missing requirement
S9: 8 | U9: Phase 3 | W9: Non-functional
S10: 9 | U10: Phase 4 | W10: Software error
S11: 10 | U11: n/a | W11: User journey
S12: 11
S13: 12
S14: 13
S15: 14
S16: 15
S17: 0

Sheet Guidance
B1: Guidance
A4: Purpose
A5: This is the Risk Log template, used by NHS Digital Solution Assurance to analyse system and/or service risks. Further interaction between the Supplier and NHS Digital will implement controls to ensure that mitigations are deployed correctly. The context in which this template is to be used is provided by the RAW Service Definition.
A7: IMPORTANT
A8: This Risk Log does not replace the Clinical Hazard Log, and where clinical risks are identified, they should be added to the relevant clinical hazard log.
A10: Note on use of formula within this spreadsheet: They are indicated with Calculated in heading on the Risk Log tab, these fields automatically calculate their values via defined formula. If these are not updating as per your selections then please check your Calculation settings in Excel.
A11: Please ensure you DO NOT DELETE the formula, if you do then please re-insert by dragging down from formula from the cell above.
A13: Guidance on how to complete the spreadsheet
A14: Activity | B14: Instructions
A15: NHS Digital internal risk workshop | B15: Complete the RAW Governance tab first. Complete columns A to G of the Risk Log tab as per guidance below. It may also be possible to complete cell values for columns G and H for some rows if you are able to identify likelihood without supplier input.
A16: A Supplier responding to a set of risks supplied by NHS Digital | B16: Complete the Supplier Governance tab. Complete columns H to M of the Risk Log tab as per guidance below.
A17: NHS Digital reviewing and completing the assurance sections within the spreadsheet | B17: Complete columns N to R of the Risk Log tab as per guidance below.
A18: A supplier using the Risk Log template to create their own set of risks | B18: Complete columns A to M of the Risk Log tab as per guidance below.
A20: A Supplier is: Any organisation or group whom are responsible for the delivery of Healthcare software into the NHS (within England). They could be internal or external to the NHS.
A23: General Guidance on Governance
A24: Suppliers are required to complete their section of the Supplier Governance tab when using the Risk Log. NHS Digital are required to complete their section(s) of Supplier Governance following review of the supplier submission.
A26: Use of RAW Governance TAB is reserved for use by NHS Digital. It is required when risks are being identified as part of a workshop. It details the attendees and confirms approval that the set of risks identified are complete and correct and can be used as a template for suppliers to complete.
A29: Guidance on Filling Out the Risk Log
A30: Field/Column Descriptor | B30: To Be Completed by N - NHS Digital S - Supplier F - Formula | C30: Column Type F - Free Text P - Pick List C - Calculated | D30: Additional Information
A31: QMM Threshold | B31: N | C31: P | D31: If the Supplier for whom the Risk Log is being prepared has been assessed for a QMM score - the appropriate value should be selected from the drop-down. If no QMM has been assessed this field should be left at "0".
A32: Programme Risk Threshold | B32: N | C32: P | D32: If the programme has elected to set a risk threshold - the appropriate value should be selected. If not, the field should be left a "0".
A33: Programme Name | B33: F | C33: C | D33: This field will be populated from the RAW Governance (NHS) tab.
A34: Phase | B34: N | C34: P | D34: This field can be used to indicate the phase of the programme to be reviewed.
A35: Risk ID | B35: N* | C35: F | D35: The Unique Identifier for given risk. N* - It is possible that a supplier may identify an unwanted cause and/or effect in which case they should add these to the spreadsheet. If a supplier adds an additional risk then they must append with the abbreviation 'SUPP' E.g. SCR00010SUPP where SCR is a descriptor of the set of risks that has been added to.
A36: Risk Grouping | B36: N* | C36: F | D36: Used to categorise risks by the product component. This will vary according to the product under review. Different types of programme are likely to require different sets of groupings.
A37: Unwanted Effect/Outcome Description | B37: N* | C37: F | D37: Describe the unwanted effect that relates to service/system release being risk assessed.
A38: Primary Area of Impact | B38: N* | C38: P | D38: The area where the impact of the unwanted effect is the greatest.
A39: Primary Impact Rating | B39: N* | C39: P | D39: The Impact rating should the unwanted effect occur. Consider the scale of how bad things could be when identifying the impact, this will ensure consistency across the identified risks. Please use the Impact Scales tab for guidance. If the supplier feels that the impact rating is not appropriate when considering their use of the service then they should select the most appropriate value and highight that this has been changed.
A40: Clinical Risk | B40: N* | C40: P | D40: "Y" if there is a clinical risk associated with this outcome. The risk
A41: Cause | B41: N* | C41: F | D41: Describe the cause or causes that would produce the unwanted effect. There will often be multiple potential causes for each unwanted effect/outcome. There should be a separate line for each cause/effect combination, so that all necessary mitigations can be identified. Even if two impacts would be addressed by the same mitigation,
... A53: Is the mitigation in place? | B53: N | C53: P | D53: Confirmation from the NHSD assurer that the mitigation is in place.
A55: N* - Whilst these are, by default, for NHS Digital to complete - it is possible that the supplier may identify an unwanted effect/cause that has not been listed. In this event the Supplier should complete these cells. If there is specific guidance for a supplier to follow for a given cell then this is explicitly stated in the Additional Information section of the table above.
A57: S* - This cell will be completed by the Supplier, by default, however NHS Digital may complete this field during the initial internal workshops. If the supplier feels an NHS Digital entry in this field needs updating then they may do so.
A60: Likelihood Interpretations (Source: DCB0129)
A61: Likelihood Category (Score) | B61: Interpretation
A62: Very high (5) | B62: Certain or almost certain; highly likely to occur
A63: High (4) | B63: Not certain but very possible; reasonably expected to occur in the majority of cases
A64: Medium (3) | B64: Possible
A65: Low (2) | B65: Could occur but in the great majority of occasions will not
A66: Very low (1) | B66: Negligible or nearly negligible possibility of occurring
A69: Assurance Group Interpretations
A70: Group | B70: Interpretation
A71: SA | B71: Solution Assurance will undertake the assurance to mitigate the risk. SME includes Functional Test Assurance, Non-Functional Test Assurance and Data Assurance.
A72: Programme | B72: A programme resource will undertake the assurance to mitigate the risk. SME includes Business Process, System Architecture, Information Governance and Training.
A73: CSG | B73: CSG will undertake assurance to mitigate the identified risk. SME includes assurance to clinical safety standards.
A74: Service Management | B74: Service management will undertake assurance to mitigate the identified risk. SME includes change management, service management, incident management and service readiness.
A75: Cyber Security | B75: Cyber will undertake assurance to mitigate the identified risk. SME includes assurance to system vulnerabilities and evaluation of penetration test reports.
A76: Other | B76: Not defined or a collection of those groups listed above will be required to collaborate in assurance activities.

Sheet Risk Log
A1: QMM Threshold All Risks with Pre-Mitigation Score = or >:
B2: Programme Risk Threshold:
A3: Programme Name: | B3: Find the Right Service (FtRS)
A4: Phase: | B4: Phase 1
C7: Unwanted Effect | Q7: Assurance
A8: Risk Id | B8: Risk Grouping | C8: Unwanted Effect/Outcome Description | D8: Primary Area of Impact | E8: Primary Impact Rating | F8: Clinical Risk (Y/N) | G8: Cause | H8: Cause Likelihood (1-5) | I8: Justification of Cause Likelihood Rating | J8: Overall Risk Score (pre-mitigation) Calculated | K8: Supplier Mitigation detail required? Calculated | L8: Supplier Internal Mitigations | M8: Post Mitigation Likelihood | N8: Residual Score Calculated | O8: In scope for assurance (Y/N) Calculated | P8: Assigned Assurance Group | Q8: High Level Assurance Mitigation | R8: Elaboration - Assurance Mitigation Detail | S8: Is the mitigation in place?
A9: DosEPSAPI-001 | B9: Authorisation | C9: An authorised user does not have access to Directory of Services (DoS) EPS API functionality. | D9: Functional | E9: 4 | F9: Y | G9: Connecting system has not applied appropriate access controls before querying the DoS API. | H9: 3 | J9: =IF(H9="N/A","N/A",E9*H9) -> 12 | K9: =IF(J9>($C$2-1),"Y","N") -> Y | N9: =IF(COUNTIF(M9,"N/A"),"N/A",IF(COUNTIF(H9, "N/A"),"N/A",E9*M9)) -> 0 | O9: =IF(J9>($C$2-1),"Y",IF(D9="Functional",(IF(F9="Y","Y",(IF(J9>(#REF!-1),"Y",IF(D9="Non-Functional",(IF(F9="Y","Y",(IF(J9>(#REF!-1),"Y","N")))),"N"))))))) -> Y
A10: DosEPSAPI-002 | B10: Authorisation | C10: An unauthorised user gains access to Directory of Services (DoS) EPS API functionality. | D10: Functional | E10: 2 | F10: N | G10: Connecting system has not applied appropriate access controls before querying the DoS API.This query should result in 403 error | H10: 3 | J10: =E10*H10 -> 6 | K10: =IF(J10>($C$2-1),"Y","N") -> Y | N10: =IF(COUNTIF(M10,"N/A"),"N/A",IF(COUNTIF(H10, "N/A"),"N/A",E10*M10)) -> 0 | O10: =IF(J10>($C$2-1),"Y",IF(D10="Functional",(IF(F10="Y", "Y",(IF(J10>(#REF!-1),"Y","N")))),"N")) -> Y
A11: DosEPSAPI-003 | B11: Audit | C11: The wrong user information is recorded in the audit log for an action. | D11: IG | E11: 2 | F11: N | G11: Connecting system sends the wrong audit information in the DoS API Query e.g. - event date/ time of the query submission - the user account | H11: 2 | J11: 2 | K11: Y | N11: =IF(COUNTIF(M11,"N/A"),"N/A",IF(COUNTIF(H11, "N/A"),"N/A",E11*M11)) -> 0 | O11: =IF(J11>($C$2-1),"Y",IF(D11="Functional",(IF(F11="Y", "Y",(IF(J11>(#REF!-1),"Y","N")))),"N")) -> Y
A12: DosEPSAPI-004 | B12: Audit | C12: User is able to view Directory of Service (DoS) details without being audited. | D12: IG | E12: 2 | F12: N | G12: Connecting system does not audit the action of user viewing Directory of Services (DoS) details. | H12: 2 | J12: 2 | K12: =IF(J12>($C$2-1),"Y","N") -> Y | N12: =IF(COUNTIF(M12,"N/A"),"N/A",IF(COUNTIF(H12, "N/A"),"N/A",E12*M12)) -> 0 | O12: =IF(J12>($C$2-1),"Y",IF(D12="Functional",(IF(F12="Y", "Y",(IF(J12>(#REF!-1),"Y","N")))),"N")) -> Y
A13: DosEPSAPI-002 | B13: System | C13: Concurrency Issues: Integration system encounters concurrency problems when multiple users or processes attempt to access, leading to data corruption or conflicts. | D13: Non-Functional | E13: 4 | F13: Y | G13: Unsuitable System Design Bugs/Issues with the functionality | H13: N/A
A14: DosEPSAPI-005 | B14: Error Handling | C14: Insufficient Error Handling: Supplier system fails to handle errors or exceptions from the DoS API gracefully, resulting in unhandled exceptions, application crashes, or inconsistent states. | D14: Functional | E14: 4 | F14: N | G14: Unsuitable System Design Inadequate business processes Bugs/Issues with the functionality more information at https://nhsconnect.github.io/eps-dos-api/errors.html | H14: 3 | J14: =E14*H14 -> 12 | K14: =IF(J14>($C$2-1),"Y","N") -> Y | N14: =IF(COUNTIF(M14,"N/A"),"N/A",IF(COUNTIF(H14, "N/A"),"N/A",E14*M14)) -> 0 | O14: =IF(J14>($C$2-1),"Y",IF(D14="Functional",(IF(F14="Y", "Y",(IF(J14>(#REF!-1),"Y","N")))),"N")) -> Y
A15: DosEPSAPI-006 | B15: Error Handling | C15: Lack of informative error messages, leading to user confusion. | D15: Functional | E15: 4 | F15: Y | G15: Error messages are not prominently displayed Error messages aren't clear or are solely error codes Error messages do not give clear advice/instructions to the user For guidance - https://nhsconnect.github.io/eps-dos-api/errors.html (all error messages to be evidenced.) | H15: 3 | J15: 12 | K15: Y
A16: DosEPSAPI-007 | B16: Error Handling | C16: Failure to log and track errors for troubleshooting and analysis. | D16: Functional | E16: 4 | F16: N | G16: Tracking and logging not in place | H16: 3 | J16: 12 | K16: Y
A17: DosEPSAPI-008 | B17: Search Parameter (byLocationAndTime)- Patient disposition specific. | C17: Response returned from the search query request does not include the results for the dispenser sevices dictated by patient disposition (time frame) | D17: Functional | E17: 3 | F17: Y | G17: Incorrect data returned by connecting system i.e. structure correct, data incorrect.(All applicable disposition codes should be tested ) | H17: 3 | J17: =E17*H17 -> 9 | K17: =IF(J17>($C$2-1),"Y","N") -> Y | N17: =IF(COUNTIF(M17,"N/A"),"N/A",IF(COUNTIF(H17, "N/A"),"N/A",E17*M17)) -> 0 | O17: =IF(J17>($C$2-1),"Y",IF(D17="Functional",(IF(F17="Y", "Y",(IF(J17>(#REF!-1),"Y","N")))),"N")) -> Y
A18: DosEPSAPI-009 | B18: Search Parameter (byLocationAndTime)- Relevant opening hours | C18: Response returned from the search query request does not include the results for the dispenser sevices that have relevant openining hours. | D18: Functional | E18: 3 | F18: Y | G18: The connecting system is not compliant to the epsdosapi specification i.e. structure incorrect, data correct. | H18: 3 | J18: =E18*H18 -> 9 | K18: =IF(J18>($C$2-1),"Y","N") -> Y | N18: =IF(COUNTIF(M18,"N/A"),"N/A",IF(COUNTIF(H18, "N/A"),"N/A",E18*M18)) -> 0 | O18: =IF(J18>($C$2-1),"Y",IF(D18="Functional",(IF(F18="Y", "Y",(IF(J18>(#REF!-1),"Y","N")))),"N")) -> Y
A19: DosEPSAPI-010 | B19: Search Parameter (byLocationAndTime)- Passing an integer number of hours | C19: Connecting System displays incorrect or incomplete Search by LocationAnd Time .(Passing an integer number of hours to the API will ensure that all dispensers returned in results are open within at least a portion of that timeframe.) | D19: Functional | E19: 3 | F19: Y | G19: Connecting system fails to process response from Search method (System Level). | H19: 3 | J19: =E19*H19 -> 9 | K19: =IF(J19>($C$2-1),"Y","N") -> Y | N19: =IF(COUNTIF(M19,"N/A"),"N/A",IF(COUNTIF(H19, "N/A"),"N/A",E19*M19)) -> 0 | O19: =IF(J19>($C$2-1),"Y",IF(D19="Functional",(IF(F19="Y", "Y",(IF(J19>(#REF!-1),"Y","N")))),"N")) -> Y
A20: DosEPSAPI-011 | B20: Search Parameter (byLocationAndTime)- Ordering of dispensers | C20: Connecting System displays incorrect or incomplete Search by LocationAnd Time .(The system should order by distance and return the five neaEPS. If a maximum distance filter is included this is applied, otherwise the system will default to a maximum distance of 38km.) | D20: Functional | E20: 3 | F20: Y | G20: Connecting system fails to correctly present the data from the Search method (Presentation Layer) Search rules not implemented and tested. | H20: 3 | J20: =E20*H20 -> 9 | K20: =IF(J20>($C$2-1),"Y","N") -> Y | N20: =IF(COUNTIF(M20,"N/A"),"N/A",IF(COUNTIF(H20, "N/A"),"N/A",E20*M20)) -> 0 | O20: =IF(J20>($C$2-1),"Y",IF(D20="Functional",(IF(F20="Y", "Y",(IF(J20>(#REF!-1),"Y","N")))),"N")) -> Y
A21: DosEPSAPI-012 | B21: Search Parameter (byNameAndPostcode) | C21: Response returned from the search query request does not include the results for the correct dispenser . | D21: Functional | E21: 3 | F21: Y | G21: Incorrect data returned by connecting system i.e. structure correct, data incorrect. | H21: 3
A22: DosEPSAPI-013 | B22: Search Parameter (byLocationAndTime & byNameAndPostcode) | C22: If functionality supported, the Connecting System fails to save the Directory of Services (DoS) data locally for Search by Service Type. ( only applicable of data stored locally) | D22: Functional | E22: 3 | F22: N | G22: Connecting system fails to update local data store e.g. DB issues | H22: 2 | J22: 3 | K22: =IF(J22>($C$2-1),"Y","N") -> Y | N22: =IF(COUNTIF(M22,"N/A"),"N/A",IF(COUNTIF(H22, "N/A"),"N/A",E22*M22)) -> 0 | O22: =IF(J22>($C$2-1),"Y",IF(D22="Functional",(IF(F22="Y", "Y",(IF(J22>(#REF!-1),"Y","N")))),"N")) -> Y
A23: DosEPSAPI-014 | B23: Search Parameter (byLocationAndTime & byNameAndPostcode) | C23: Connecting System is using historic Search by ServiceType data to inform care decisions. (only applicable if historic search is implemented) | D23: Functional | E23: 3 | F23: Y | G23: Connecting system fails re-query the API after a defined period. | H23: 2 | J23: 3 | K23: =IF(J23>($C$2-1),"Y","N") -> Y | N23: =IF(COUNTIF(M23,"N/A"),"N/A",IF(COUNTIF(H23, "N/A"),"N/A",E23*M23)) -> 0 | O23: =IF(J23>($C$2-1),"Y",IF(D23="Functional",(IF(F23="Y", "Y",(IF(J23>(#REF!-1),"Y","N")))),"N")) -> Y
A24: DosEPSAPI-015 | B24: Search Parameter (byLocationAndTime & byNameAndPostcode) | C24: Failure to enforce mandatory field requirements resulting in incomplete requests. | D24: Functional | E24: 4 | F24: Y | G24: Unsuitable System Design Field validation not in place Negative Scenarios not tested. | H24: 3 | J24: 12 | K24: Y
A25: DosEPSAPI-016 | B25: Search Parameter (byLocationAndTime & byNameAndPostcode) | C25: User finds it difficult to read the Search results returned by the service in the connecting system. | D25: Functional | E25: 3 | F25: Y | G25: Connecting system fails to render the Search e Response in an easily accessible and readable way. | H25: N/A | J25: 3 | K25: Y
A26: DosEPSAPI-016 | B26: Search Parameter (byLocationAndTime & byNameAndPostcode) | C26: Error code responses returned from the Search by ServiceType api to the connecting system are not interpreted/handled correctly. An end user is unable to determine the next activity correctly. | D26: Functional | E26: 3 | F26: Y | G26: Connecting system functionality to handle error conditions is not working correctly. e.g. A fault in the connecting system results in wrong message being displayed. | H26: 3 | J26: 9 | K26: Y
A27: DosEPSAPI-017 | B27: System | C27: Supplier system not resilient to changes in API specifications or requirements, resulting in service disruptions or data parsing errors. | D27: Functional | E27: 4 | F27: Y | G27: No change management process. Supplier contact details not up to date. | H27: 3 | J27: 12 | K27: Y
A28: DosEPSAPI-018 | B28: V&P | C28: End user experiencing performance issues that are serious enough to render the system unusable. | D28: System/Solution Integrity | E28: 3 | F28: Y | G28: Performance issues with the system. | H28: 3 | J28: =E28*H28 -> 9 | K28: =IF(J28>($C$2-1),"Y","N") -> Y | N28: =IF(COUNTIF(M28,"N/A"),"N/A",IF(COUNTIF(H28, "N/A"),"N/A",E28*M28)) -> 0 | O28: =IF(J28>($C$2-1),"Y",IF(D28="Functional",(IF(F28="Y", "Y",(IF(J28>(#REF!-1),"Y","N")))),"N")) -> Y
A29: DosEPSAPI-019 | B29: RFO | C29: System is unavailable. | D29: System/Solution Integrity | E29: 3 | F29: Y | G29: The solution is not resilient: - Resilience / Failover - Identification of any single points of failure - Load balancing design and failure scenarios - Backup and Recovery - Disaster Recovery | H29: 3 | J29: =E29*H29 -> 9 | K29: =IF(J29>($C$2-1),"Y","N") -> Y | N29: =IF(COUNTIF(M29,"N/A"),"N/A",IF(COUNTIF(H29, "N/A"),"N/A",E29*M29)) -> 0 | O29: =IF(J29>($C$2-1),"Y",IF(D29="Functional",(IF(F29="Y", "Y",(IF(J29>(#REF!-1),"Y","N")))),"N")) -> Y
A30: DosEPSAPI-020 | B30: RFO | C30: The system is experiencing problems but the user has no visibility of this. | D30: System/Solution Integrity | E30: 3 | F30: Y | G30: Alerting and monitoring is either not present or not fit for purpose. | H30: 3 | J30: =E30*H30 -> 9 | K30: =IF(J30>($C$2-1),"Y","N") -> Y | N30: =IF(COUNTIF(M30,"N/A"),"N/A",IF(COUNTIF(H30, "N/A"),"N/A",E30*M30)) -> 0 | O30: =IF(J30>($C$2-1),"Y",IF(D30="Functional",(IF(F30="Y", "Y",(IF(J30>(#REF!-1),"Y","N")))),"N")) -> Y
A31: DosEPSAPI-021 | B31: RFO | C31: The system has not deployed correctly. | D31: System/Solution Integrity | E31: 3 | F31: Y | G31: Poor transition / deployment plans. | H31: 3 | J31: =E31*H31 -> 9 | K31: =IF(J31>($C$2-1),"Y","N") -> Y | N31: =IF(COUNTIF(M31,"N/A"),"N/A",IF(COUNTIF(H31, "N/A"),"N/A",E31*M31)) -> 0 | O31: =IF(J31>($C$2-1),"Y",IF(D31="Functional",(IF(F31="Y", "Y",(IF(J31>(#REF!-1),"Y","N")))),"N")) -> Y
N32: =IF(COUNTIF(M32,"N/A"),"N/A",IF(COUNTIF(H32, "N/A"),"N/A",E32*M32)) -> 0 | O32: =IF(J32>($C$2-1),"Y",IF(D32="Functional",(IF(F32="Y", "Y",(IF(J32>(#REF!-1),"Y","N")))),"N")) -> Y
N33: =IF(COUNTIF(M33,"N/A"),"N/A",IF(COUNTIF(H33, "N/A"),"N/A",E33*M33)) -> 0 | O33: =IF(J33>($C$2-1),"Y",IF(D33="Functional",(IF(F33="Y", "Y",(IF(J33>(#REF!-1),"Y","N")))),"N")) -> Y
N34: =IF(COUNTIF(M34,"N/A"),"N/A",IF(COUNTIF(H34, "N/A"),"N/A",E34*M34)) -> 0 | O34: =IF(J34>($C$2-1),"Y",IF(D34="Functional",(IF(F34="Y", "Y",(IF(J34>(#REF!-1),"Y","N")))),"N")) -> Y
N35: =IF(COUNTIF(M35,"N/A"),"N/A",IF(COUNTIF(H35, "N/A"),"N/A",E35*M35)) -> 0 | O35: =IF(J35>($C$2-1),"Y",IF(D35="Functional",(IF(F35="Y", "Y",(IF(J35>(#REF!-1),"Y","N")))),"N")) -> Y
N36: =IF(COUNTIF(M36,"N/A"),"N/A",IF(COUNTIF(H36, "N/A"),"N/A",E36*M36)) -> 0 | O36: =IF(J36>($C$2-1),"Y",IF(D36="Functional",(IF(F36="Y", "Y",(IF(J36>(#REF!-1),"Y","N")))),"N")) -> Y
N37: =IF(COUNTIF(M37,"N/A"),"N/A",IF(COUNTIF(H37, "N/A"),"N/A",E37*M37)) -> 0 | O37: =IF(J37>($C$2-1),"Y",IF(D37="Functional",(IF(F37="Y", "Y",(IF(J37>(#REF!-1),"Y","N")))),"N")) -> Y
N38: =IF(COUNTIF(M38,"N/A"),"N/A",IF(COUNTIF(H38, "N/A"),"N/A",E38*M38)) -> 0 | O38: =IF(J38>($C$2-1),"Y",IF(D38="Functional",(IF(F38="Y", "Y",(IF(J38>(#REF!-1),"Y","N")))),"N")) -> Y
N39: =IF(COUNTIF(M39,"N/A"),"N/A",IF(COUNTIF(H39, "N/A"),"N/A",E39*M39)) -> 0 | O39: =IF(J39>($C$2-1),"Y",IF(D39="Functional",(IF(F39="Y", "Y",(IF(J39>(#REF!-1),"Y","N")))),"N")) -> Y
N40: =IF(COUNTIF(M40,"N/A"),"N/A",IF(COUNTIF(H40, "N/A"),"N/A",E40*M40)) -> 0 | O40: =IF(J40>($C$2-1),"Y",IF(D40="Functional",(IF(F40="Y", "Y",(IF(J40>(#REF!-1),"Y","N")))),"N")) -> Y
N41: =IF(COUNTIF(M41,"N/A"),"N/A",IF(COUNTIF(H41, "N/A"),"N/A",E41*M41)) -> 0 | O41: =IF(J41>($C$2-1),"Y",IF(D41="Functional",(IF(F41="Y", "Y",(IF(J41>(#REF!-1),"Y","N")))),"N")) -> Y
N42: =IF(COUNTIF(M42,"N/A"),"N/A",IF(COUNTIF(H42, "N/A"),"N/A",E42*M42)) -> 0 | O42: =IF(J42>($C$2-1),"Y",IF(D42="Functional",(IF(F42="Y", "Y",(IF(J42>(#REF!-1),"Y","N")))),"N")) -> Y
N43: =IF(COUNTIF(M43,"N/A"),"N/A",IF(COUNTIF(H43, "N/A"),"N/A",E43*M43)) -> 0 | O43: =IF(J43>($C$2-1),"Y",IF(D43="Functional",(IF(F43="Y", "Y",(IF(J43>(#REF!-1),"Y","N")))),"N")) -> Y
... N107: =IF(COUNTIF(M107,"N/A"),"N/A",IF(COUNTIF(H107, "N/A"),"N/A",E107*M107)) -> 0 | O107: =IF(J107>($C$2-1),"Y",IF(D107="Functional",(IF(F107="Y", "Y",(IF(J107>(#REF!-1),"Y","N")))),"N")) -> Y

Sheet Impact Scales
B1: Guidance on Impact Scales
B4: You should use the impact scales to derive the Primary Impact Rating of the unwanted effect recorded on the Risk Log tab.
B6: Use the table below to identify the highest Impact Level that contains one or more statements that match the impact of the unwanted effect. This impact level should be used as the Primary Impact Rating.
B8: You are expected to contextualise the statements in the table with the unwanted effect.
A10: Important note | B10: The clinical impact definitions listed below are taken from DCB0129 and are maintained within that standard.
B11: Please ensure there have been no updates to the standard before using the definitions listed below to rate risks where Clinical is the primary area of impact.
B13: Impact Level 1 | C13: Impact Level 2 | D13: Impact Level 3 | E13: Impact Level 4 | F13: Impact Level 5
A14: Functional | B14: Failure to meet a functional business requirement/user need, resulting in a technical issue, no impact to any programme or business objectives or operational goals, no change/workaround required. | C14: Failure to meet a functional business requirement/user need, resulting in failure to meet programme or business objectives or operational goals, still within acceptable limits, no changes/workaround required | D14: Failure to meet a functional business requirement/user need, resulting in failure to meet programme or business objectives or operational goals, requiring moderate changes/workaround to accommodate | E14: Failure to meet a functional business requirement/user need, resulting in failure to meet programme or business objectives or operational goals, requiring significant changes/workaround to accommodate | F14: Failure to meet a functional business requirement/user need, resulting in failure to meet programme or business objectives or operational goals, requires significant changes to accommodate, there are no workarounds. | G14: Technical/Business and Operational Goals - Local Only
B15: N/A | C15: N/A | D15: N/A | E15: Failure to meet a functional business requirement/user need, resulting in failure to meet programme or business objectives or operational goals, moderate changes/workaround required to one or more of the National Systems | F15: Failure to meet a functional business requirement/user need, resulting in failure to meet programme or business objectives or operational goals, significant change(s) required to one or more of the National Systems. No workaround available | G15: Technical/Business and Operational Goals - National Scope
B16: Programme or Care Org budget unaffected | C16: Programme or Care Org budget impacted by up to +10% | D16: Programme or Care Org budget impacted by +11-50% | E16: Programme or Care Org budget impacted by +51-100% | F16: Programme or Care Org budget impacted by >100% | G16: Cost
B18: No programme delay, outside planned contingency or workarounds | C18: Programme delay by up to +10% on plan | D18: Programme delay by +11-50% on plan | E18: Programme delay by +51-100% on plan | F18: Programme delay by >100% on plan | G18: Schedule
A20: Non-Functional | B20: Solution design or implementaion results in a non-functional issue. The problem is rare and causes minimal loss of time. Minor cosmetic or consistency issue. Examples include but are not limited to; volume and performance, resilience, accessibility, and general readiness for operation. | C20: Solution design or implementaion results in a non-functional issue. The problem is exhibited as a failure to meet programme or business objectives or operational goals, still within acceptable limits, no changes/workaround required. Examples include but are not limited to; volume and performance, resilience, accessibility, and general readiness for operation. | D20: Solution design or implementaion results in a non-functional issue. The problem is exhibited as a failure to meet programme or business objectives or operational goals, requiring moderate changes/workaround to accommodate. Examples include but are not limited to; volume and performance, resilience, accessibility, and general readiness for operation. | E20: Solution design or implementaion results in a non-functional issue. The problem is exhibited as a failure to meet programme or business objectives or operational goals, requiring significant changes/workaround to accommodate. Examples include but are not limited to; volume and performance, resilience, accessibility, and general readiness for operation. | F20: Solution design or implementaion results in a non-functional issue. The problem is exhibited as a failure to meet programme or business objectives or operational goals, requires significant changes to accommodate, there are no workarounds. Examples include but are not limited to; volume and performance, resilience, accessibility, and general readiness for operation. | G20: Quality
B22: Programme or Care Org budget unaffected | C22: Programme or Care Org budget impacted by up to +10% | D22: Programme or Care Org budget impacted by +11-50% | E22: Programme or Care Org budget impacted by +51-100% | F22: Programme or Care Org budget impacted by >100% | G22: Cost
B24: Users remain happy with the system | C24: Users will be slightly irritated by the problem. | D24: Users will become unsatisfied with the system. | E24: User will be expecting problems to occur thus causing reputational damage | F24: The user is unable or unwilling to use the system. Complete dissatisfaction. | G24: Reputation
B26: No programme delay, outside planned contingency or workarounds | C26: Programme delay by up to +10% on plan | D26: Programme delay by +11-50% on plan | E26: Programme delay by +51-100% on plan | F26: Programme delay by >100% on plan | G26: Schedule
A28: Data Quality | B28: Localised minor data quality issue, no impact to any programme or business objectives or operational goals, no change/workaround required | C28: Localised minor data quality issue, resulting in failure to meet programme or business objectives or operational goals, still within acceptable limits, no changes/workaround required | D28: Localised moderate data quality issue, resulting in failure to meet programme or business objectives or operational goals, requiring minor changes/workaround to accommodate | E28: Localised significant data quality issue, resulting in failure to meet programme or business objectives or operational goals, requiring extensive changes/workaround to accommodate | F28: Data quality issue affecting centrally stored data or data consumed by other systems resulting in failure to meet programme or business objectives or operational goals, requires change/workaround to accommodate | G28: Data Quality/Business and Operational Goals - Local and National
B30: N/A | C30: N/A | D30: Moderate technical or data quality issue, resulting in failure to meet programme or business objectives or operational goals, requiring minor changes/workaround prior to secondary use of the dataset | E30: Significant technical or data quality issue, resulting in failure to meet programme or business objectives or operational goals, requiring extensive changes/workaround prior to secondary use of the dataset | F30: Catastrophic technical or data quality issue, resulting in failure to meet programme or business objectives or operational goals, no change/workaround available. Unable to use the dataset for secondary uses | G30: Data Quality/Business and Operational Goals - Secondary Usel
B33: Programme or Care Org budget unaffected | C33: Programme or Care Org budget impacted by up to +10% | D33: Programme or Care Org budget impacted by +11-50% | E33: Programme or Care Org budget impacted by +51-100% | F33: Programme or Care Org budget impacted by >100% | G33: Cost
B35: No programme delay, outside planned contingency or workarounds | C35: Programme delay by up to +10% on plan | D35: Programme delay by +11-50% on plan | E35: Programme delay by +51-100% on plan | F35: Programme delay by >100% on plan | G35: Schedule
A37: Information Governance | B37: Breach of confidentiality for personal data, only a single data subject affected. | C37: Breach of confidentiality for personal data <10 data subjects impacted | D37: Breach of confidentiality for personal data <50 data subjects impacted | E37: Breach of confidentiality for personal data for up to 100 data subjects impacted OR Breach of confidentiality for sensitive personal data for single data subject | F37: Breach of confidentiality for personal data for up to 1000 data subjects impacted OR Breach of confidentiality for sensitive personal data for more than a single data subject | G37: Confidentiality
B39: Minor data integrity ssue, no impact to any programme or business objectives or operational goals, no change/workaround required. | C39: Minor data integrity issue, resulting in failure to meet programme or business objectives or operational goals, still within acceptable limits, no changes/workaround required. | D39: Moderate data integrity issue, resulting in failure to meet programme or business objectives or operational goals, requiring minor changes/workaround. | E39: Significant data integrity issue, resulting in failure to meet programme or business objectives or operational goals, requiring significant changes/workaround to accommodate | F39: Catastrophic data integrity issue, resulting in failure to meet programme or business objectives or operational goals, requires significant changes to accommodate, there are no workarounds | G39: Integrity
B41: Minor availability issue, no impact to any programme or business objectives or operational goals, | C41: Minor availability issue, still within acceptable limits and not impacting stakeholders | D41: Moderate availability issue, impacting stakeholders, service still within acceptable limits | E41: Significant availabilityy issue, bringing considerable inconvience to stakeholders, resulting in failure to meet programme or business objectives or operational goals. | F41: Catastrophic availability issue, bringing unacceptable inconvience to stakeholders, resulting in failure to meet programme or business objectives or operational goals. | G41: Availability
B43: Programme or Care Org budget unaffected | C43: Programme or Care Org budget impacted by up to +10% | D43: Programme or Care Org budget impacted by +11-50% | E43: Programme or Care Org budget impacted by +51-100% | F43: Programme or Care Org budget impacted by >100% | G43: Cost
B45: No programme delay, outside planned contingency or workarounds | C45: Programme delay by up to +10% on plan | D45: Programme delay by +11-50% on plan | E45: Programme delay by +51-100% on plan | F45: Programme delay by >100% on plan | G45: Schedule
A47: Cyber Security | B47: Vulnerability discovered. Rated Low, remediation unlikely, mitigation provided. Residual risk accepted. | C47: Vulnerability discovered. Rated Medium, remediation unlikely, mitigation / workaround established. Residual risk accepted for private & public beta, but long term solution required. | D47: Vulnerability discovered. Rated High, remediation unlikely in the short term, mitigation / workaround established. Residual risk accepted only for private beta, long term solution required before public beta. | E47: Vulnerability discovered. Rated High / Critical, remediation unlikely in the short term, mitigation / workaround not sufficient. Residual risk not accepted for private beta until quick fix is provided in lieu of a long term solution. | F47: Vulnerability discovered. Rated High / Critical, remediation unlikely in the short term, no adequate mitigation / workaround. No way forward until solution developed.

Sheet Metrics
A1: Total No. of Risks | B1: =COUNTA('Risk Log'!C:C)-4 -> 21
A2: SEVERITY
A3: 5 | B3: =COUNTIF('Risk Log'!E:E,A3) -> 0
A4: 4 | B4: =COUNTIF('Risk Log'!E:E,A4) -> 7
A5: 3 | B5: =COUNTIF('Risk Log'!E:E,A5) -> 13
A6: 2 | B6: =COUNTIF('Risk Log'!E:E,A6) -> 3
A7: 1 | B7: =COUNTIF('Risk Log'!E:E,A7) -> 0
A8: NOT CLASSIFIED | B8: =B1-(SUM(B3:B7)) -> -2
A9: PRIMARY AREA OF IMPACT
A10: Functional | B10: =COUNTIF('Risk Log'!D:D,A10) -> 16
A11: Non-Functional | B11: =COUNTIF('Risk Log'!D:D,A11) -> 0
A12: Data Quality | B12: =COUNTIF('Risk Log'!D:D,A12) -> 0
A13: Information Governance | B13: =COUNTIF('Risk Log'!D:D,A13) -> 0
A14: Cyber Security | B14: =COUNTIF('Risk Log'!D:D,A14) -> 0
A15: NOT CLASSIFIED | B15: =B1-(SUM(B10:B14)) -> 5
A16: PRE-MITIGATION SCORE
A17: Between 1 and 3 | B17: =COUNTIFS('Risk Log'!J:J,"<3",'Risk Log'!J:J,">1") -> 2
A18: Between 4 and 7 | B18: =COUNTIFS('Risk Log'!J:J,"<7",'Risk Log'!J:J,">4") -> 1
A19: Between 8 and 14 | B19: =COUNTIFS('Risk Log'!J:J,"<14",'Risk Log'!J:J,">8") -> 15
A20: Between 15 and 19 | B20: =COUNTIFS('Risk Log'!J:J,"<19",'Risk Log'!J:J,">15") -> 0
A21: Between 20 and 25 | B21: =COUNTIFS('Risk Log'!J:J,"<26",'Risk Log'!J:J,">20") -> 0
A22: NOT CLASSIFIED | B22: =B1-(SUM(B17:B21)) -> 3
A23: POST-MITIGATION SCORE
A24: Between 1 and 3 | B24: =COUNTIFS('Risk Log'!N:N,"<3",'Risk Log'!N:N,">1") -> 0
A25: Between 4 and 7 | B25: =COUNTIFS('Risk Log'!N:N,"<7",'Risk Log'!N:N,">4") -> 0
A26: Between 8 and 14 | B26: =COUNTIFS('Risk Log'!N:N,"<14",'Risk Log'!N:N,">8") -> 0
A27: Between 15 and 19 | B27: =COUNTIFS('Risk Log'!N:N,"<19",'Risk Log'!N:N,">15") -> 0
A28: Between 20 and 25 | B28: =COUNTIFS('Risk Log'!N:N,"<26",'Risk Log'!N:N,">20") -> 0
A29: >15 | B29: =COUNTIFS('Risk Log'!N:N,"<30",'Risk Log'!N:N,">15") -> 0 | D29: Needs to be zero for Beta
A30: >10 | B30: =COUNTIFS('Risk Log'!N:N,"<30",'Risk Log'!N:N,">10") -> 0 | D30: Needs to be zero for Go-Live
A31: NOT CLASSIFIED | B31: =B1-(SUM(B24:B30)) -> 21
